Workbook

Sheet FLECHAS Y MOMENTOS
A1: FLECHAS EN VIGAS
A3: SOLO UN TIPO DE SECCIÓN DEBE TENER DATOS | G3: E (K/cm2) | I3: DIMENSIONADO EN MATERIAL HOMOGENEO
A4: Sección rectangular | C4: PN I | D4: PN U | E4: Sección no normalizada | I4: (Según Wnec y σ adm)
I5: s (Kg/cm2) | K5: Wnec (cm3) | M5: MATERIAL
A6: h | E6: h | J6: Apoyo A | K6: Tramo | L6: Apoyo B
I7: 50 | J7: =$B$34*100000/$I7 -> 0 | K7: =$D$35*100000/$I7 -> #DIV/0! | L7: =$F$34*100000/$I7 -> 0 | M7: MADERA
B8: bo | I8: 60 | J8: =MAX($B$34,$F$34)*100000/$I8 -> 0 | K8: =$D$35*100000/$I8 -> #DIV/0! | L8: =$F$34*100000/$I8 -> 0
A9: bo (cm) | C9: IPN Nº (en mm) | D9: UPN Nº (en mm) | E9: I (cm4) | G9: VALORES ADOPTADOS | I9: 70 | J9: =MAX($B$34,$F$34)*100000/$I9 -> 0 | K9: =$D$35*100000/$I9 -> #DIV/0! | L9: =$F$34*100000/$I9 -> 0
A10: h (cm) | E10: h (cm) | G10: PARA EL CÁLCULO | I10: 80 | J10: =MAX($B$34,$F$34)*100000/$I10 -> 0 | K10: =$D$35*100000/$I10 -> #DIV/0! | L10: =$F$34*100000/$I10 -> 0
A11: I (cm4) | B11: =B9*B10^3/12 -> 0 | C11: =+'TABLA PERFILES'!M23 -> 0 | D11: =+'TABLA PERFILES'!M47 -> 0 | E11: S (cm3) | F11: =IF(F10=0,0,F9/F10*2) -> 0 | G11: I (cm4) | H11: =MAX(B11,C11,D11,F9) -> 0 | I11: 90 | J11: =MAX($B$34,$F$34)*100000/$I11 -> 0 | K11: =$D$35*100000/$I11 -> #DIV/0! | L11: =$F$34*100000/$I11 -> 0
A12: S (cm3) | B12: =B9*B10^2/6 -> 0 | C12: ='TABLA PERFILES'!N22 -> 0 | D12: ='TABLA PERFILES'!N46 -> 0 | G12: S (cm3) | H12: =+MAX(B12,C12,F11,D12) -> 0 | I12: 100 | J12: =MAX($B$34,$F$34)*100000/$I12 -> 0 | K12: =$D$35*100000/$I12 -> #DIV/0! | L12: =$F$34*100000/$I12 -> 0
A13: LOS DATOS SE INGRESAN EN LAS CELDAS VERDES. | I13: 800 | J13: =MAX($B$34,$F$34)*100000/$I13 -> 0 | K13: =$D$35*100000/$I13 -> #DIV/0! | L13: =$F$34*100000/$I13 -> 0 | M13: ACERO
I14: 1000 | J14: =MAX($B$34,$F$34)*100000/$I14 -> 0 | K14: =$D$35*100000/$I14 -> #DIV/0! | L14: =$F$34*100000/$I14 -> 0
I15: 1200 | J15: =MAX($B$34,$F$34)*100000/$I15 -> 0 | K15: =$D$35*100000/$I15 -> #DIV/0! | L15: =$F$34*100000/$I15 -> 0
I16: 1400 | J16: =MAX($B$34,$F$34)*100000/$I16 -> 0 | K16: =$D$35*100000/$I16 -> #DIV/0! | L16: =$F$34*100000/$I16 -> 0
I17: 1600 | J17: =MAX($B$34,$F$34)*100000/$I17 -> 0 | K17: =$D$35*100000/$I17 -> #DIV/0! | L17: =$F$34*100000/$I17 -> 0
I19: ELEGIR Wnec ENTRE LAS CELDAS EN BLANCO.
A25: DATOS
A26: Luz (m) | C26: Luz (m) | E26: Luz (m)
A27: P (T) | C27: P1 (T) | E27: P (T)
C28: Dist. a (m)
A29: Cargas puntuales | C29: P2 (T)
C30: Dist. a (m)
C31: P3 (T)
C32: Dist. a (m)
A33: Carga distribuida q (T/m)
A34: Mom. Apoyo (Tm) | B34: =(B33*B26^2/2+B27*B26) -> 0 | F34: =(F33*F26^2/2+F27*F26) -> 0
A35: Mom. Tramo (Tm) | D35: =Calculo!N164/1000 -> #DIV/0!
A36: Flechas δ (cm) | B36: =(Cargas!C8*100000*('FLECHAS Y MOMENTOS'!B26*100)^2)/(4*'FLECHAS Y MOMENTOS'!H3*'FLECHAS Y MOMENTOS'!H11)+((Cargas!C9*100000*('FLECHAS Y MOMENTOS'!B26*100)^2)/(3*'FLECHAS Y MOMENTOS'!H3*'FLECHAS Y MOMENTOS'!H11))+SIN(Calculo!S153*100)*B26 -> #DIV/0! | D36: =Calculo!S164 -> #DIV/0! | F36: =(Cargas!M8*100000*('FLECHAS Y MOMENTOS'!F26*100)^2)/(4*'FLECHAS Y MOMENTOS'!H3*'FLECHAS Y MOMENTOS'!H11)+((Cargas!M9*100000*('FLECHAS Y MOMENTOS'!F26*100)^2)/(3*'FLECHAS Y MOMENTOS'!H3*'FLECHAS Y MOMENTOS'!H11))+SIN(-Calculo!S163*100)*F26 -> #DIV/0!

Sheet Cargas
O2: REPARTO DE CARGAS PUNTUALES A NUDOS
O3: Fraccion luz | P3: desde dist | Q3: hasta dist | R3: va a nudo | S3: P1 | T3: P2 | U3: P3 | V3: TOTAL
B4: Nudos | C4: Mi | D4: 2 | E4: 3 | F4: 4 | G4: 5 | H4: 6 | I4: 7 | J4: 8 | K4: 9 | L4: 10 | M4: Md | O4: 0 | Q4: =O4*$M$5 -> 0
B5: Distancia | C5: 0 | D5: ='FLECHAS Y MOMENTOS'!$D$26*1/10 -> 0 | E5: ='FLECHAS Y MOMENTOS'!$D$26*2/10 -> 0 | F5: ='FLECHAS Y MOMENTOS'!$D$26*3/10 -> 0 | G5: ='FLECHAS Y MOMENTOS'!$D$26*4/10 -> 0 | H5: ='FLECHAS Y MOMENTOS'!$D$26*5/10 -> 0 | I5: ='FLECHAS Y MOMENTOS'!$D$26*6/10 -> 0 | J5: ='FLECHAS Y MOMENTOS'!$D$26*7/10 -> 0 | K5: ='FLECHAS Y MOMENTOS'!$D$26*8/10 -> 0 | L5: ='FLECHAS Y MOMENTOS'!$D$26*9/10 -> 0 | M5: ='FLECHAS Y MOMENTOS'!$D$26 -> 0 | N5: m | O5: 0.025 | P5: {=Q4:Q24} -> 0 | Q5: =O5*$M$5 -> 0 | R5: ignorar | V5: 0 | W5: 1
B6: Centro barra | D6: =(E5+D5)/2 -> 0 | E6: =(F5+E5)/2 -> 0 | F6: =(G5+F5)/2 -> 0 | G6: =(H5+G5)/2 -> 0 | H6: =(I5+H5)/2 -> 0 | I6: =(J5+I5)/2 -> 0 | J6: =(K5+J5)/2 -> 0 | K6: =(L5+K5)/2 -> 0 | N6: m | O6: 0.075 | P6: 0 | Q6: =O6*$M$5 -> 0 | R6: ignorar / 2 | S6: =IF($D$13<Q6,IF($D$13>P6,$D$12/2,0),0) -> 0 | T6: =IF(G13<Q6,IF(G13>P6,G12/2,0),0) -> 0 | U6: =IF(J13<Q6,IF(J13>P6,J12/2,0),0) -> 0
B7: M Total | C7: ='FLECHAS Y MOMENTOS'!B34 -> 0 | M7: ='FLECHAS Y MOMENTOS'!F34 -> 0 | N7: Tm | O7: 0.125 | P7: 0 | Q7: =O7*$M$5 -> 0 | R7: 2 | S7: =IF($D$13<Q7,IF($D$13>P7,$D$12,0),0) -> 0 | T7: =IF(G13<Q7,IF(G13>P7,G12,0),0) -> 0 | U7: =IF(J13<Q7,IF(J13>P7,J12,0),0) -> 0 | V7: =S6+T6+U6+S7+T7+U7+S8+T8+U8 -> 0 | W7: 2
B8: M de carga q | C8: ='FLECHAS Y MOMENTOS'!B33*'FLECHAS Y MOMENTOS'!B26^2/2 -> 0 | M8: ='FLECHAS Y MOMENTOS'!F33*'FLECHAS Y MOMENTOS'!F26^2/2 -> 0 | N8: Tm | O8: 0.175 | P8: 0 | Q8: =O8*$M$5 -> 0 | R8: 2/3 | S8: =IF($D$13<Q8,IF($D$13>P8,$D$12/2,0),0) -> 0 | T8: =IF(G13<Q8,IF(G13>P8,G12/2,0),0) -> 0 | U8: =IF(J13<Q8,IF(J13>P8,J12/2,0),0) -> 0
B9: M de carga p | C9: ='FLECHAS Y MOMENTOS'!B27*'FLECHAS Y MOMENTOS'!B26 -> 0 | M9: ='FLECHAS Y MOMENTOS'!F27*'FLECHAS Y MOMENTOS'!F26 -> 0 | N9: Tm | O9: 0.225 | P9: 0 | Q9: =O9*$M$5 -> 0 | R9: 3 | S9: =IF($D$13<Q9,IF($D$13>P9,$D$12,0),0) -> 0 | T9: =IF(G13<Q9,IF(G13>P9,G12,0),0) -> 0 | U9: =IF(J13<Q9,IF(J13>P9,J12,0),0) -> 0 | V9: =S8+T8+U8+S9+T9+U9+S10+T10+U10 -> 0 | W9: 3
B10: Distribuidas | D10: ='FLECHAS Y MOMENTOS'!$D$33*('FLECHAS Y MOMENTOS'!$D$26/10) -> 0 | E10: ='FLECHAS Y MOMENTOS'!$D$33*('FLECHAS Y MOMENTOS'!$D$26/10) -> 0 | F10: ='FLECHAS Y MOMENTOS'!$D$33*('FLECHAS Y MOMENTOS'!$D$26/10) -> 0 | G10: ='FLECHAS Y MOMENTOS'!$D$33*('FLECHAS Y MOMENTOS'!$D$26/10) -> 0 | H10: ='FLECHAS Y MOMENTOS'!$D$33*('FLECHAS Y MOMENTOS'!$D$26/10) -> 0 | I10: ='FLECHAS Y MOMENTOS'!$D$33*('FLECHAS Y MOMENTOS'!$D$26/10) -> 0 | J10: ='FLECHAS Y MOMENTOS'!$D$33*('FLECHAS Y MOMENTOS'!$D$26/10) -> 0 | K10: ='FLECHAS Y MOMENTOS'!$D$33*('FLECHAS Y MOMENTOS'!$D$26/10) -> 0 | L10: ='FLECHAS Y MOMENTOS'!$D$33*('FLECHAS Y MOMENTOS'!$D$26/10) -> 0 | N10: T | O10: 0.275 | P10: 0 | Q10: =O10*$M$5 -> 0 | R10: 3/4 | S10: =IF($D$13<Q10,IF($D$13>P10,$D$12/2,0),0) -> 0 | T10: =IF(G13<Q10,IF(G13>P10,G12/2,0),0) -> 0 | U10: =IF(J13<Q10,IF(J13>P10,J12/2,0),0) -> 0
B11: Puntuales | C11: Designacion | D11: P1 | G11: P2 | J11: P3 | O11: 0.325 | P11: 0 | Q11: =O11*$M$5 -> 0 | R11: 4 | S11: =IF($D$13<Q11,IF($D$13>P11,$D$12,0),0) -> 0 | T11: =IF(G13<Q11,IF(G13>P11,G12,0),0) -> 0 | U11: =IF(J13<Q11,IF(J13>P11,J12,0),0) -> 0 | V11: =S10+T10+U10+S11+T11+U11+S12+T12+U12 -> 0 | W11: 4
C12: Carga | D12: ='FLECHAS Y MOMENTOS'!D27 -> 0 | G12: ='FLECHAS Y MOMENTOS'!D29 -> 0 | J12: ='FLECHAS Y MOMENTOS'!D31 -> 0 | N12: t | O12: 0.375 | P12: 0 | Q12: =O12*$M$5 -> 0 | R12: 4/5 | S12: =IF($D$13<Q12,IF($D$13>P12,$D$12/2,0),0) -> 0 | T12: =IF(G13<Q12,IF(G13>P12,G12/2,0),0) -> 0 | U12: =IF(J13<Q12,IF(J13>P12,J12/2,0),0) -> 0
C13: Posicion | D13: ='FLECHAS Y MOMENTOS'!D28 -> 0 | G13: ='FLECHAS Y MOMENTOS'!D30 -> 0 | J13: ='FLECHAS Y MOMENTOS'!D32 -> 0 | N13: m | O13: 0.425 | P13: 0 | Q13: =O13*$M$5 -> 0 | R13: 5 | S13: =IF($D$13<Q13,IF($D$13>P13,$D$12,0),0) -> 0 | T13: =IF(G13<Q13,IF(G13>P13,G12,0),0) -> 0 | U13: =IF(J13<Q13,IF(J13>P13,J12,0),0) -> 0 | V13: =S12+T12+U12+S13+T13+U13+S14+T14+U14 -> 0 | W13: 5
C14: Nudo asignado | D14: =V7 -> 0 | E14: =V9 -> 0 | F14: =V11 -> 0 | G14: =V13 -> 0 | H14: =V15 -> 0 | I14: =V17 -> 0 | J14: =V19 -> 0 | K14: =V21 -> 0 | L14: =V23 -> 0 | N14: T | O14: 0.475 | P14: 0 | Q14: =O14*$M$5 -> 0 | R14: 5/6 | S14: =IF($D$13<Q14,IF($D$13>P14,$D$12/2,0),0) -> 0 | T14: =IF(G13<Q14,IF(G13>P14,G12/2,0),0) -> 0 | U14: =IF(J13<Q14,IF(J13>P14,J12/2,0),0) -> 0
B15: Total | C15: =C7*100000 -> 0 | D15: =(D10+D14)*1000 -> 0 | E15: =(E10+E14)*1000 -> 0 | F15: =(F10+F14)*1000 -> 0 | G15: =(G10+G14)*1000 -> 0 | H15: =(H10+H14)*1000 -> 0 | I15: =(I10+I14)*1000 -> 0 | J15: =(J10+J14)*1000 -> 0 | K15: =(K10+K14)*1000 -> 0 | L15: =(L10+L14)*1000 -> 0 | M15: =M7*100000 -> 0 | N15: T | O15: 0.525 | P15: 0 | Q15: =O15*$M$5 -> 0 | R15: 6 | S15: =IF($D$13<Q15,IF($D$13>P15,$D$12,0),0) -> 0 | T15: =IF(G13<Q15,IF(G13>P15,G12,0),0) -> 0 | U15: =IF(J13<Q15,IF(J13>P15,J12,0),0) -> 0 | V15: =S14+T14+U14+S15+T15+U15+S16+T16+U16 -> 0 | W15: 6
C16: Kgcm | D16: Kg | E16: Kg | F16: Kg | G16: Kg | H16: Kg | I16: Kg | J16: Kg | K16: Kg | L16: Kg | M16: Kgcm | N16: T | O16: 0.575 | P16: 0 | Q16: =O16*$M$5 -> 0 | R16: 6/7 | S16: =IF($D$13<Q16,IF($D$13>P16,$D$12/2,0),0) -> 0 | T16: =IF(G13<Q16,IF(G13>P16,G12/2,0),0) -> 0 | U16: =IF(J13<Q16,IF(J13>P16,J12/2,0),0) -> 0
O17: 0.625 | P17: 0 | Q17: =O17*$M$5 -> 0 | R17: 7 | S17: =IF($D$13<Q17,IF($D$13>P17,$D$12,0),0) -> 0 | T17: =IF(G13<Q17,IF(G13>P17,G12,0),0) -> 0 | U17: =IF(J13<Q17,IF(J13>P17,J12,0),0) -> 0 | V17: =S16+T16+U16+S17+T17+U17+S18+T18+U18 -> 0 | W17: 7
O18: 0.675 | P18: 0 | Q18: =O18*$M$5 -> 0 | R18: 7/8 | S18: =IF($D$13<Q18,IF($D$13>P18,$D$12/2,0),0) -> 0 | T18: =IF(G13<Q18,IF(G13>P18,G12/2,0),0) -> 0 | U18: =IF(J13<Q18,IF(J13>P18,J12/2,0),0) -> 0
O19: 0.725 | P19: 0 | Q19: =O19*$M$5 -> 0 | R19: 8 | S19: =IF($D$13<Q19,IF($D$13>P19,$D$12,0),0) -> 0 | T19: =IF(G13<Q19,IF(G13>P19,G12,0),0) -> 0 | U19: =IF(J13<Q19,IF(J13>P19,J12,0),0) -> 0 | V19: =S18+T18+U18+S19+T19+U19+S20+T20+U20 -> 0 | W19: 8
O20: 0.775 | P20: 0 | Q20: =O20*$M$5 -> 0 | R20: 8/9 | S20: =IF($D$13<Q20,IF($D$13>P20,$D$12/2,0),0) -> 0 | T20: =IF(G13<Q20,IF(G13>P20,G12/2,0),0) -> 0 | U20: =IF(J13<Q20,IF(J13>P20,J12/2,0),0) -> 0
O21: 0.825 | P21: 0 | Q21: =O21*$M$5 -> 0 | R21: 9 | S21: =IF($D$13<Q21,IF($D$13>P21,$D$12,0),0) -> 0 | T21: =IF(G13<Q21,IF(G13>P21,G12,0),0) -> 0 | U21: =IF(J13<Q21,IF(J13>P21,J12,0),0) -> 0 | V21: =S20+T20+U20+S21+T21+U21+S22+T22+U22 -> 0 | W21: 9
O22: 0.875 | P22: 0 | Q22: =O22*$M$5 -> 0 | R22: 9/10 | S22: =IF($D$13<Q22,IF($D$13>P22,$D$12/2,0),0) -> 0 | T22: =IF(G13<Q22,IF(G13>P22,G12/2,0),0) -> 0 | U22: =IF(J13<Q22,IF(J13>P22,J12/2,0),0) -> 0
O23: 0.925 | P23: 0 | Q23: =O23*$M$5 -> 0 | R23: 10 | S23: =IF($D$13<Q23,IF($D$13>P23,$D$12,0),0) -> 0 | T23: =IF(G13<Q23,IF(G13>P23,G12,0),0) -> 0 | U23: =IF(J13<Q23,IF(J13>P23,J12,0),0) -> 0 | V23: =S22+T22+U22+S23+T23+U23+S24+T24+U24 -> 0 | W23: 10
O24: 0.975 | P24: 0 | Q24: =O24*$M$5 -> 0 | R24: 10 /ignorar | S24: =IF($D$13<Q24,IF($D$13>P24,$D$12/2,0),0) -> 0 | T24: =IF(G13<Q24,IF(G13>P24,G12/2,0),0) -> 0 | U24: =IF(J13<Q24,IF(J13>P24,J12/2,0),0) -> 0
O25: 1 | P25: 0 | Q25: =O25*$M$5 -> 0 | R25: ignorar | V25: 0 | W25: 11

Sheet Calculo
B5: DATOS | F5: CARGA | J5: EQUILIBRIO | K5: F | L5: = | M5: H | AG5: x | AH5: f
B6: INERCIA | C6: ='FLECHAS Y MOMENTOS'!H11 -> 0 | D6: cm3 | F6: FY2 | G6: =Cargas!D15 -> 0 | H6: Kg | K6: FY2 | M6: =1/$C$8 -> #DIV/0! | N6: =1/$C$8 -> #DIV/0! | O6: =-1/$C$8 -> #DIV/0! | P6: =-1/$C$8 -> #DIV/0! | Q6: 0 | R6: 0 | S6: 0 | T6: 0 | U6: 0 | V6: 0 | W6: 0 | X6: 0 | Y6: 0 | Z6: 0 | AA6: 0 | AB6: 0 | AC6: 0 | AD6: 0 | AE6: 0 | AF6: 0 | AH6: m a1
B7: LUZ | C7: ='FLECHAS Y MOMENTOS'!D26*100 -> 0 | D7: cm | F7: FY3 | G7: =Cargas!E15 -> 0 | H7: Kg | K7: FY3 | M7: 0 | N7: 0 | O7: =1/$C$8 -> #DIV/0! | P7: =1/$C$8 -> #DIV/0! | Q7: =-1/$C$8 -> #DIV/0! | R7: =-1/$C$8 -> #DIV/0! | S7: 0 | T7: 0 | U7: 0 | V7: 0 | W7: 0 | X7: 0 | Y7: 0 | Z7: 0 | AA7: 0 | AB7: 0 | AC7: 0 | AD7: 0 | AE7: 0 | AF7: 0 | AH7: m a2
B8: L | C8: =C7/10 -> 0 | D8: cm | F8: FY4 | G8: =Cargas!F15 -> 0 | H8: Kg | K8: FY4 | M8: 0 | N8: 0 | O8: 0 | P8: 0 | Q8: =1/$C$8 -> #DIV/0! | R8: =1/$C$8 -> #DIV/0! | S8: =-1/$C$8 -> #DIV/0! | T8: =-1/$C$8 -> #DIV/0! | U8: 0 | V8: 0 | W8: 0 | X8: 0 | Y8: 0 | Z8: 0 | AA8: 0 | AB8: 0 | AC8: 0 | AD8: 0 | AE8: 0 | AF8: 0 | AH8: m b2
B9: MOULO E | C9: ='FLECHAS Y MOMENTOS'!H3 -> 0 | D9: Kg/cm2 | F9: FY5 | G9: =Cargas!G15 -> 0 | H9: Kg | K9: FY5 | M9: 0 | N9: 0 | O9: 0 | P9: 0 | Q9: 0 | R9: 0 | S9: =1/$C$8 -> #DIV/0! | T9: =1/$C$8 -> #DIV/0! | U9: =-1/$C$8 -> #DIV/0! | V9: =-1/$C$8 -> #DIV/0! | W9: 0 | X9: 0 | Y9: 0 | Z9: 0 | AA9: 0 | AB9: 0 | AC9: 0 | AD9: 0 | AE9: 0 | AF9: 0 | AH9: m b3
B10: EI/L | C10: =(C9*C6)/C8 -> #DIV/0! | D10: Kg | F10: FY6 | G10: =Cargas!H15 -> 0 | H10: Kg | K10: FY6 | M10: 0 | N10: 0 | O10: 0 | P10: 0 | Q10: 0 | R10: 0 | S10: 0 | T10: 0 | U10: =1/$C$8 -> #DIV/0! | V10: =1/$C$8 -> #DIV/0! | W10: =-1/$C$8 -> #DIV/0! | X10: =-1/$C$8 -> #DIV/0! | Y10: 0 | Z10: 0 | AA10: 0 | AB10: 0 | AC10: 0 | AD10: 0 | AE10: 0 | AF10: 0 | AH10: m c3
F11: FY7 | G11: =Cargas!I15 -> 0 | H11: Kg | K11: FY7 | M11: 0 | N11: 0 | O11: 0 | P11: 0 | Q11: 0 | R11: 0 | S11: 0 | T11: 0 | U11: 0 | V11: 0 | W11: =1/$C$8 -> #DIV/0! | X11: =1/$C$8 -> #DIV/0! | Y11: =-1/$C$8 -> #DIV/0! | Z11: =-1/$C$8 -> #DIV/0! | AA11: 0 | AB11: 0 | AC11: 0 | AD11: 0 | AE11: 0 | AF11: 0 | AH11: m c4
F12: FY8 | G12: =Cargas!J15 -> 0 | H12: Kg | K12: FY8 | M12: 0 | N12: 0 | O12: 0 | P12: 0 | Q12: 0 | R12: 0 | S12: 0 | T12: 0 | U12: 0 | V12: 0 | W12: 0 | X12: 0 | Y12: =1/$C$8 -> #DIV/0! | Z12: =1/$C$8 -> #DIV/0! | AA12: =-1/$C$8 -> #DIV/0! | AB12: =-1/$C$8 -> #DIV/0! | AC12: 0 | AD12: 0 | AE12: 0 | AF12: 0 | AH12: m d4
F13: FY9 | G13: =Cargas!K15 -> 0 | H13: Kg | K13: FY9 | M13: 0 | N13: 0 | O13: 0 | P13: 0 | Q13: 0 | R13: 0 | S13: 0 | T13: 0 | U13: 0 | V13: 0 | W13: 0 | X13: 0 | Y13: 0 | Z13: 0 | AA13: =1/$C$8 -> #DIV/0! | AB13: =1/$C$8 -> #DIV/0! | AC13: =-1/$C$8 -> #DIV/0! | AD13: =-1/$C$8 -> #DIV/0! | AE13: 0 | AF13: 0 | AH13: m d5
F14: FY10 | G14: =Cargas!L15 -> 0 | H14: Kg | K14: FY10 | M14: 0 | N14: 0 | O14: 0 | P14: 0 | Q14: 0 | R14: 0 | S14: 0 | T14: 0 | U14: 0 | V14: 0 | W14: 0 | X14: 0 | Y14: 0 | Z14: 0 | AA14: 0 | AB14: 0 | AC14: =1/$C$8 -> #DIV/0! | AD14: =1/$C$8 -> #DIV/0! | AE14: =-1/$C$8 -> #DIV/0! | AF14: =-1/$C$8 -> #DIV/0! | AH14: m e5
F15: M1 | G15: =Cargas!C15 -> 0 | H15: Kgcm | K15: M1 | M15: 1 | N15: 0 | O15: 0 | P15: 0 | Q15: 0 | R15: 0 | S15: 0 | T15: 0 | U15: 0 | V15: 0 | W15: 0 | X15: 0 | Y15: 0 | Z15: 0 | AA15: 0 | AB15: 0 | AC15: 0 | AD15: 0 | AE15: 0 | AF15: 0 | AH15: m e6
F16: M2 | G16: 0 | H16: Kgcm | K16: M2 | M16: 0 | N16: 1 | O16: 1 | P16: 0 | Q16: 0 | R16: 0 | S16: 0 | T16: 0 | U16: 0 | V16: 0 | W16: 0 | X16: 0 | Y16: 0 | Z16: 0 | AA16: 0 | AB16: 0 | AC16: 0 | AD16: 0 | AE16: 0 | AF16: 0 | AH16: m f6
F17: M3 | G17: 0 | H17: Kgcm | K17: M3 | M17: 0 | N17: 0 | O17: 0 | P17: 1 | Q17: 1 | R17: 0 | S17: 0 | T17: 0 | U17: 0 | V17: 0 | W17: 0 | X17: 0 | Y17: 0 | Z17: 0 | AA17: 0 | AB17: 0 | AC17: 0 | AD17: 0 | AE17: 0 | AF17: 0 | AH17: m f7
F18: M4 | G18: 0 | H18: Kgcm | K18: M4 | M18: 0 | N18: 0 | O18: 0 | P18: 0 | Q18: 0 | R18: 1 | S18: 1 | T18: 0 | U18: 0 | V18: 0 | W18: 0 | X18: 0 | Y18: 0 | Z18: 0 | AA18: 0 | AB18: 0 | AC18: 0 | AD18: 0 | AE18: 0 | AF18: 0 | AH18: m g7
F19: M5 | G19: 0 | H19: Kgcm | K19: M5 | M19: 0 | N19: 0 | O19: 0 | P19: 0 | Q19: 0 | R19: 0 | S19: 0 | T19: 1 | U19: 1 | V19: 0 | W19: 0 | X19: 0 | Y19: 0 | Z19: 0 | AA19: 0 | AB19: 0 | AC19: 0 | AD19: 0 | AE19: 0 | AF19: 0 | AH19: m g8
F20: M6 | G20: 0 | H20: Kgcm | K20: M6 | M20: 0 | N20: 0 | O20: 0 | P20: 0 | Q20: 0 | R20: 0 | S20: 0 | T20: 0 | U20: 0 | V20: 1 | W20: 1 | X20: 0 | Y20: 0 | Z20: 0 | AA20: 0 | AB20: 0 | AC20: 0 | AD20: 0 | AE20: 0 | AF20: 0 | AH20: m h8
F21: M7 | G21: 0 | H21: Kgcm | K21: M7 | M21: 0 | N21: 0 | O21: 0 | P21: 0 | Q21: 0 | R21: 0 | S21: 0 | T21: 0 | U21: 0 | V21: 0 | W21: 0 | X21: 1 | Y21: 1 | Z21: 0 | AA21: 0 | AB21: 0 | AC21: 0 | AD21: 0 | AE21: 0 | AF21: 0 | AH21: m h9
F22: M8 | G22: 0 | H22: Kgcm | K22: M8 | M22: 0 | N22: 0 | O22: 0 | P22: 0 | Q22: 0 | R22: 0 | S22: 0 | T22: 0 | U22: 0 | V22: 0 | W22: 0 | X22: 0 | Y22: 0 | Z22: 1 | AA22: 1 | AB22: 0 | AC22: 0 | AD22: 0 | AE22: 0 | AF22: 0 | AH22: m i9
F23: M9 | G23: 0 | H23: Kgcm | K23: M9 | M23: 0 | N23: 0 | O23: 0 | P23: 0 | Q23: 0 | R23: 0 | S23: 0 | T23: 0 | U23: 0 | V23: 0 | W23: 0 | X23: 0 | Y23: 0 | Z23: 0 | AA23: 0 | AB23: 1 | AC23: 1 | AD23: 0 | AE23: 0 | AF23: 0 | AH23: m i10
F24: M10 | G24: 0 | H24: Kgcm | K24: M10 | M24: 0 | N24: 0 | O24: 0 | P24: 0 | Q24: 0 | R24: 0 | S24: 0 | T24: 0 | U24: 0 | V24: 0 | W24: 0 | X24: 0 | Y24: 0 | Z24: 0 | AA24: 0 | AB24: 0 | AC24: 0 | AD24: 1 | AE24: 1 | AF24: 0 | AH24: m j10
F25: M11 | G25: =-Cargas!M15 -> 0 | H25: Kgcm | K25: M11 | M25: 0 | N25: 0 | O25: 0 | P25: 0 | Q25: 0 | R25: 0 | S25: 0 | T25: 0 | U25: 0 | V25: 0 | W25: 0 | X25: 0 | Y25: 0 | Z25: 0 | AA25: 0 | AB25: 0 | AC25: 0 | AD25: 0 | AE25: 0 | AF25: 1 | AH25: m j11
J29: COMPATIBILIDAD | K29: u | L29: = | M29: B | AG29: x | AH29: U
K30: u a1 | M30: {=TRANSPOSE(M6:AF25)} -> #DIV/0! | N30: 0 | O30: 0 | P30: 0 | Q30: 0 | R30: 0 | S30: 0 | T30: 0 | U30: 0 | V30: 1 | W30: 0 | X30: 0 | Y30: 0 | Z30: 0 | AA30: 0 | AB30: 0 | AC30: 0 | AD30: 0 | AE30: 0 | AF30: 0 | AH30: Uy2
K31: u a2 | M31: #DIV/0! | N31: 0 | O31: 0 | P31: 0 | Q31: 0 | R31: 0 | S31: 0 | T31: 0 | U31: 0 | V31: 0 | W31: 1 | X31: 0 | Y31: 0 | Z31: 0 | AA31: 0 | AB31: 0 | AC31: 0 | AD31: 0 | AE31: 0 | AF31: 0 | AH31: Uy3
K32: u b2 | M32: #DIV/0! | N32: #DIV/0! | O32: 0 | P32: 0 | Q32: 0 | R32: 0 | S32: 0 | T32: 0 | U32: 0 | V32: 0 | W32: 1 | X32: 0 | Y32: 0 | Z32: 0 | AA32: 0 | AB32: 0 | AC32: 0 | AD32: 0 | AE32: 0 | AF32: 0 | AH32: Uy4
K33: u b3 | M33: #DIV/0! | N33: #DIV/0! | O33: 0 | P33: 0 | Q33: 0 | R33: 0 | S33: 0 | T33: 0 | U33: 0 | V33: 0 | W33: 0 | X33: 1 | Y33: 0 | Z33: 0 | AA33: 0 | AB33: 0 | AC33: 0 | AD33: 0 | AE33: 0 | AF33: 0 | AH33: Uy5
K34: u c3 | M34: 0 | N34: #DIV/0! | O34: #DIV/0! | P34: 0 | Q34: 0 | R34: 0 | S34: 0 | T34: 0 | U34: 0 | V34: 0 | W34: 0 | X34: 1 | Y34: 0 | Z34: 0 | AA34: 0 | AB34: 0 | AC34: 0 | AD34: 0 | AE34: 0 | AF34: 0 | AH34: Uy6
K35: u c4 | M35: 0 | N35: #DIV/0! | O35: #DIV/0! | P35: 0 | Q35: 0 | R35: 0 | S35: 0 | T35: 0 | U35: 0 | V35: 0 | W35: 0 | X35: 0 | Y35: 1 | Z35: 0 | AA35: 0 | AB35: 0 | AC35: 0 | AD35: 0 | AE35: 0 | AF35: 0 | AH35: Uy7
K36: u d4 | M36: 0 | N36: 0 | O36: #DIV/0! | P36: #DIV/0! | Q36: 0 | R36: 0 | S36: 0 | T36: 0 | U36: 0 | V36: 0 | W36: 0 | X36: 0 | Y36: 1 | Z36: 0 | AA36: 0 | AB36: 0 | AC36: 0 | AD36: 0 | AE36: 0 | AF36: 0 | AH36: Uy8
K37: u d5 | M37: 0 | N37: 0 | O37: #DIV/0! | P37: #DIV/0! | Q37: 0 | R37: 0 | S37: 0 | T37: 0 | U37: 0 | V37: 0 | W37: 0 | X37: 0 | Y37: 0 | Z37: 1 | AA37: 0 | AB37: 0 | AC37: 0 | AD37: 0 | AE37: 0 | AF37: 0 | AH37: Uy9
K38: u e5 | M38: 0 | N38: 0 | O38: 0 | P38: #DIV/0! | Q38: #DIV/0! | R38: 0 | S38: 0 | T38: 0 | U38: 0 | V38: 0 | W38: 0 | X38: 0 | Y38: 0 | Z38: 1 | AA38: 0 | AB38: 0 | AC38: 0 | AD38: 0 | AE38: 0 | AF38: 0 | AH38: Uy10
K39: u e6 | M39: 0 | N39: 0 | O39: 0 | P39: #DIV/0! | Q39: #DIV/0! | R39: 0 | S39: 0 | T39: 0 | U39: 0 | V39: 0 | W39: 0 | X39: 0 | Y39: 0 | Z39: 0 | AA39: 1 | AB39: 0 | AC39: 0 | AD39: 0 | AE39: 0 | AF39: 0 | AH39: Giro 1
K40: u f6 | M40: 0 | N40: 0 | O40: 0 | P40: 0 | Q40: #DIV/0! | R40: #DIV/0! | S40: 0 | T40: 0 | U40: 0 | V40: 0 | W40: 0 | X40: 0 | Y40: 0 | Z40: 0 | AA40: 1 | AB40: 0 | AC40: 0 | AD40: 0 | AE40: 0 | AF40: 0 | AH40: Giro 2
K41: u f7 | M41: 0 | N41: 0 | O41: 0 | P41: 0 | Q41: #DIV/0! | R41: #DIV/0! | S41: 0 | T41: 0 | U41: 0 | V41: 0 | W41: 0 | X41: 0 | Y41: 0 | Z41: 0 | AA41: 0 | AB41: 1 | AC41: 0 | AD41: 0 | AE41: 0 | AF41: 0 | AH41: Giro 3
K42: u g7 | M42: 0 | N42: 0 | O42: 0 | P42: 0 | Q42: 0 | R42: #DIV/0! | S42: #DIV/0! | T42: 0 | U42: 0 | V42: 0 | W42: 0 | X42: 0 | Y42: 0 | Z42: 0 | AA42: 0 | AB42: 1 | AC42: 0 | AD42: 0 | AE42: 0 | AF42: 0 | AH42: Giro 4
K43: u g8 | M43: 0 | N43: 0 | O43: 0 | P43: 0 | Q43: 0 | R43: #DIV/0! | S43: #DIV/0! | T43: 0 | U43: 0 | V43: 0 | W43: 0 | X43: 0 | Y43: 0 | Z43: 0 | AA43: 0 | AB43: 0 | AC43: 1 | AD43: 0 | AE43: 0 | AF43: 0 | AH43: Giro 5
K44: u h8 | M44: 0 | N44: 0 | O44: 0 | P44: 0 | Q44: 0 | R44: 0 | S44: #DIV/0! | T44: #DIV/0! | U44: 0 | V44: 0 | W44: 0 | X44: 0 | Y44: 0 | Z44: 0 | AA44: 0 | AB44: 0 | AC44: 1 | AD44: 0 | AE44: 0 | AF44: 0 | AH44: Giro 6
K45: u h9 | M45: 0 | N45: 0 | O45: 0 | P45: 0 | Q45: 0 | R45: 0 | S45: #DIV/0! | T45: #DIV/0! | U45: 0 | V45: 0 | W45: 0 | X45: 0 | Y45: 0 | Z45: 0 | AA45: 0 | AB45: 0 | AC45: 0 | AD45: 1 | AE45: 0 | AF45: 0 | AH45: Giro 7
K46: u i9 | M46: 0 | N46: 0 | O46: 0 | P46: 0 | Q46: 0 | R46: 0 | S46: 0 | T46: #DIV/0! | U46: #DIV/0! | V46: 0 | W46: 0 | X46: 0 | Y46: 0 | Z46: 0 | AA46: 0 | AB46: 0 | AC46: 0 | AD46: 1 | AE46: 0 | AF46: 0 | AH46: Giro 8
K47: u i10 | M47: 0 | N47: 0 | O47: 0 | P47: 0 | Q47: 0 | R47: 0 | S47: 0 | T47: #DIV/0! | U47: #DIV/0! | V47: 0 | W47: 0 | X47: 0 | Y47: 0 | Z47: 0 | AA47: 0 | AB47: 0 | AC47: 0 | AD47: 0 | AE47: 1 | AF47: 0 | AH47: Giro 9
K48: u j10 | M48: 0 | N48: 0 | O48: 0 | P48: 0 | Q48: 0 | R48: 0 | S48: 0 | T48: 0 | U48: #DIV/0! | V48: 0 | W48: 0 | X48: 0 | Y48: 0 | Z48: 0 | AA48: 0 | AB48: 0 | AC48: 0 | AD48: 0 | AE48: 1 | AF48: 0 | AH48: Giro 10
K49: u j11 | M49: 0 | N49: 0 | O49: 0 | P49: 0 | Q49: 0 | R49: 0 | S49: 0 | T49: 0 | U49: #DIV/0! | V49: 0 | W49: 0 | X49: 0 | Y49: 0 | Z49: 0 | AA49: 0 | AB49: 0 | AC49: 0 | AD49: 0 | AE49: 0 | AF49: 1 | AH49: Giro 11
J52: RIGIDEZ | K52: f | L52: = | M52: k | AG52: x | AH52: u
K53: m a1 | M53: =4*($C$10) -> #DIV/0! | N53: =2*($C$10) -> #DIV/0! | O53: 0 | P53: 0 | Q53: 0 | R53: 0 | S53: 0 | T53: 0 | U53: 0 | V53: 0 | W53: 0 | X53: 0 | Y53: 0 | Z53: 0 | AA53: 0 | AB53: 0 | AC53: 0 | AD53: 0 | AE53: 0 | AF53: 0 | AH53: u a1
K54: m a2 | M54: =2*($C$10) -> #DIV/0! | N54: =4*($C$10) -> #DIV/0! | O54: 0 | P54: 0 | Q54: 0 | R54: 0 | S54: 0 | T54: 0 | U54: 0 | V54: 0 | W54: 0 | X54: 0 | Y54: 0 | Z54: 0 | AA54: 0 | AB54: 0 | AC54: 0 | AD54: 0 | AE54: 0 | AF54: 0 | AH54: u a2
K55: m b2 | M55: 0 | N55: 0 | O55: =4*($C$10) -> #DIV/0! | P55: =2*($C$10) -> #DIV/0! | Q55: 0 | R55: 0 | S55: 0 | T55: 0 | U55: 0 | V55: 0 | W55: 0 | X55: 0 | Y55: 0 | Z55: 0 | AA55: 0 | AB55: 0 | AC55: 0 | AD55: 0 | AE55: 0 | AF55: 0 | AH55: u b2
K56: m b3 | M56: 0 | N56: 0 | O56: =2*($C$10) -> #DIV/0! | P56: =4*($C$10) -> #DIV/0! | Q56: 0 | R56: 0 | S56: 0 | T56: 0 | U56: 0 | V56: 0 | W56: 0 | X56: 0 | Y56: 0 | Z56: 0 | AA56: 0 | AB56: 0 | AC56: 0 | AD56: 0 | AE56: 0 | AF56: 0 | AH56: u b3
K57: m c3 | M57: 0 | N57: 0 | O57: 0 | P57: 0 | Q57: =4*($C$10) -> #DIV/0! | R57: =2*($C$10) -> #DIV/0! | S57: 0 | T57: 0 | U57: 0 | V57: 0 | W57: 0 | X57: 0 | Y57: 0 | Z57: 0 | AA57: 0 | AB57: 0 | AC57: 0 | AD57: 0 | AE57: 0 | AF57: 0 | AH57: u c3
K58: m c4 | M58: 0 | N58: 0 | O58: 0 | P58: 0 | Q58: =2*($C$10) -> #DIV/0! | R58: =4*($C$10) -> #DIV/0! | S58: 0 | T58: 0 | U58: 0 | V58: 0 | W58: 0 | X58: 0 | Y58: 0 | Z58: 0 | AA58: 0 | AB58: 0 | AC58: 0 | AD58: 0 | AE58: 0 | AF58: 0 | AH58: u c4
K59: m d4 | M59: 0 | N59: 0 | O59: 0 | P59: 0 | Q59: 0 | R59: 0 | S59: =4*($C$10) -> #DIV/0! | T59: =2*($C$10) -> #DIV/0! | U59: 0 | V59: 0 | W59: 0 | X59: 0 | Y59: 0 | Z59: 0 | AA59: 0 | AB59: 0 | AC59: 0 | AD59: 0 | AE59: 0 | AF59: 0 | AH59: u d4
K60: m d5 | M60: 0 | N60: 0 | O60: 0 | P60: 0 | Q60: 0 | R60: 0 | S60: =2*($C$10) -> #DIV/0! | T60: =4*($C$10) -> #DIV/0! | U60: 0 | V60: 0 | W60: 0 | X60: 0 | Y60: 0 | Z60: 0 | AA60: 0 | AB60: 0 | AC60: 0 | AD60: 0 | AE60: 0 | AF60: 0 | AH60: u d5
K61: m e5 | M61: 0 | N61: 0 | O61: 0 | P61: 0 | Q61: 0 | R61: 0 | S61: 0 | T61: 0 | U61: =4*($C$10) -> #DIV/0! | V61: =2*($C$10) -> #DIV/0! | W61: 0 | X61: 0 | Y61: 0 | Z61: 0 | AA61: 0 | AB61: 0 | AC61: 0 | AD61: 0 | AE61: 0 | AF61: 0 | AH61: u e5
K62: m e6 | M62: 0 | N62: 0 | O62: 0 | P62: 0 | Q62: 0 | R62: 0 | S62: 0 | T62: 0 | U62: =2*($C$10) -> #DIV/0! | V62: =4*($C$10) -> #DIV/0! | W62: 0 | X62: 0 | Y62: 0 | Z62: 0 | AA62: 0 | AB62: 0 | AC62: 0 | AD62: 0 | AE62: 0 | AF62: 0 | AH62: u e6
K63: m f6 | M63: 0 | N63: 0 | O63: 0 | P63: 0 | Q63: 0 | R63: 0 | S63: 0 | T63: 0 | U63: 0 | V63: 0 | W63: =4*($C$10) -> #DIV/0! | X63: =2*($C$10) -> #DIV/0! | Y63: 0 | Z63: 0 | AA63: 0 | AB63: 0 | AC63: 0 | AD63: 0 | AE63: 0 | AF63: 0 | AH63: u f6
K64: m f7 | M64: 0 | N64: 0 | O64: 0 | P64: 0 | Q64: 0 | R64: 0 | S64: 0 | T64: 0 | U64: 0 | V64: 0 | W64: =2*($C$10) -> #DIV/0! | X64: =4*($C$10) -> #DIV/0! | Y64: 0 | Z64: 0 | AA64: 0 | AB64: 0 | AC64: 0 | AD64: 0 | AE64: 0 | AF64: 0 | AH64: u f7
K65: m g7 | M65: 0 | N65: 0 | O65: 0 | P65: 0 | Q65: 0 | R65: 0 | S65: 0 | T65: 0 | U65: 0 | V65: 0 | W65: 0 | X65: 0 | Y65: =4*($C$10) -> #DIV/0! | Z65: =2*($C$10) -> #DIV/0! | AA65: 0 | AB65: 0 | AC65: 0 | AD65: 0 | AE65: 0 | AF65: 0 | AH65: u g7
K66: m g8 | M66: 0 | N66: 0 | O66: 0 | P66: 0 | Q66: 0 | R66: 0 | S66: 0 | T66: 0 | U66: 0 | V66: 0 | W66: 0 | X66: 0 | Y66: =2*($C$10) -> #DIV/0! | Z66: =4*($C$10) -> #DIV/0! | AA66: 0 | AB66: 0 | AC66: 0 | AD66: 0 | AE66: 0 | AF66: 0 | AH66: u g8
K67: m h8 | M67: 0 | N67: 0 | O67: 0 | P67: 0 | Q67: 0 | R67: 0 | S67: 0 | T67: 0 | U67: 0 | V67: 0 | W67: 0 | X67: 0 | Y67: 0 | Z67: 0 | AA67: =4*($C$10) -> #DIV/0! | AB67: =2*($C$10) -> #DIV/0! | AC67: 0 | AD67: 0 | AE67: 0 | AF67: 0 | AH67: u h8
K68: m h9 | M68: 0 | N68: 0 | O68: 0 | P68: 0 | Q68: 0 | R68: 0 | S68: 0 | T68: 0 | U68: 0 | V68: 0 | W68: 0 | X68: 0 | Y68: 0 | Z68: 0 | AA68: =2*($C$10) -> #DIV/0! | AB68: =4*($C$10) -> #DIV/0! | AC68: 0 | AD68: 0 | AE68: 0 | AF68: 0 | AH68: u h9
K69: m i9 | M69: 0 | N69: 0 | O69: 0 | P69: 0 | Q69: 0 | R69: 0 | S69: 0 | T69: 0 | U69: 0 | V69: 0 | W69: 0 | X69: 0 | Y69: 0 | Z69: 0 | AA69: 0 | AB69: 0 | AC69: =4*($C$10) -> #DIV/0! | AD69: =2*($C$10) -> #DIV/0! | AE69: 0 | AF69: 0 | AH69: u i9
K70: m i10 | M70: 0 | N70: 0 | O70: 0 | P70: 0 | Q70: 0 | R70: 0 | S70: 0 | T70: 0 | U70: 0 | V70: 0 | W70: 0 | X70: 0 | Y70: 0 | Z70: 0 | AA70: 0 | AB70: 0 | AC70: =2*($C$10) -> #DIV/0! | AD70: =4*($C$10) -> #DIV/0! | AE70: 0 | AF70: 0 | AH70: u i10
K71: m j10 | M71: 0 | N71: 0 | O71: 0 | P71: 0 | Q71: 0 | R71: 0 | S71: 0 | T71: 0 | U71: 0 | V71: 0 | W71: 0 | X71: 0 | Y71: 0 | Z71: 0 | AA71: 0 | AB71: 0 | AC71: 0 | AD71: 0 | AE71: =4*($C$10) -> #DIV/0! | AF71: =2*($C$10) -> #DIV/0! | AH71: u j10
K72: m j11 | M72: 0 | N72: 0 | O72: 0 | P72: 0 | Q72: 0 | R72: 0 | S72: 0 | T72: 0 | U72: 0 | V72: 0 | W72: 0 | X72: 0 | Y72: 0 | Z72: 0 | AA72: 0 | AB72: 0 | AC72: 0 | AD72: 0 | AE72: =2*($C$10) -> #DIV/0! | AF72: =4*($C$10) -> #DIV/0! | AH72: u j11
L76: K=H*(k*B) | M76: {=MMULT(M6:AF25,(MMULT(M53:AF72,M30:AF49)))} -> #DIV/0! | N76: #DIV/0! | O76: #DIV/0! | P76: #DIV/0! | Q76: #DIV/0! | R76: #DIV/0! | S76: #DIV/0! | T76: #DIV/0! | U76: #DIV/0! | V76: #DIV/0! | W76: #DIV/0! | X76: #DIV/0! | Y76: #DIV/0! | Z76: #DIV/0! | AA76: #DIV/0! | AB76: #DIV/0! | AC76: #DIV/0! | AD76: #DIV/0! | AE76: #DIV/0! | AF76: #DIV/0!
M77: #DIV/0! | N77: #DIV/0! | O77: #DIV/0! | P77: #DIV/0! | Q77: #DIV/0! | R77: #DIV/0! | S77: #DIV/0! | T77: #DIV/0! | U77: #DIV/0! | V77: #DIV/0! | W77: #DIV/0! | X77: #DIV/0! | Y77: #DIV/0! | Z77: #DIV/0! | AA77: #DIV/0! | AB77: #DIV/0! | AC77: #DIV/0! | AD77: #DIV/0! | AE77: #DIV/0! | AF77: #DIV/0!
M78: #DIV/0! | N78: #DIV/0! | O78: #DIV/0! | P78: #DIV/0! | Q78: #DIV/0! | R78: #DIV/0! | S78: #DIV/0! | T78: #DIV/0! | U78: #DIV/0! | V78: #DIV/0! | W78: #DIV/0! | X78: #DIV/0! | Y78: #DIV/0! | Z78: #DIV/0! | AA78: #DIV/0! | AB78: #DIV/0! | AC78: #DIV/0! | AD78: #DIV/0! | AE78: #DIV/0! | AF78: #DIV/0!
M79: #DIV/0! | N79: #DIV/0! | O79: #DIV/0! | P79: #DIV/0! | Q79: #DIV/0! | R79: #DIV/0! | S79: #DIV/0! | T79: #DIV/0! | U79: #DIV/0! | V79: #DIV/0! | W79: #DIV/0! | X79: #DIV/0! | Y79: #DIV/0! | Z79: #DIV/0! | AA79: #DIV/0! | AB79: #DIV/0! | AC79: #DIV/0! | AD79: #DIV/0! | AE79: #DIV/0! | AF79: #DIV/0!
M80: #DIV/0! | N80: #DIV/0! | O80: #DIV/0! | P80: #DIV/0! | Q80: #DIV/0! | R80: #DIV/0! | S80: #DIV/0! | T80: #DIV/0! | U80: #DIV/0! | V80: #DIV/0! | W80: #DIV/0! | X80: #DIV/0! | Y80: #DIV/0! | Z80: #DIV/0! | AA80: #DIV/0! | AB80: #DIV/0! | AC80: #DIV/0! | AD80: #DIV/0! | AE80: #DIV/0! | AF80: #DIV/0!
M81: #DIV/0! | N81: #DIV/0! | O81: #DIV/0! | P81: #DIV/0! | Q81: #DIV/0! | R81: #DIV/0! | S81: #DIV/0! | T81: #DIV/0! | U81: #DIV/0! | V81: #DIV/0! | W81: #DIV/0! | X81: #DIV/0! | Y81: #DIV/0! | Z81: #DIV/0! | AA81: #DIV/0! | AB81: #DIV/0! | AC81: #DIV/0! | AD81: #DIV/0! | AE81: #DIV/0! | AF81: #DIV/0!
I82: i | M82: #DIV/0! | N82: #DIV/0! | O82: #DIV/0! | P82: #DIV/0! | Q82: #DIV/0! | R82: #DIV/0! | S82: #DIV/0! | T82: #DIV/0! | U82: #DIV/0! | V82: #DIV/0! | W82: #DIV/0! | X82: #DIV/0! | Y82: #DIV/0! | Z82: #DIV/0! | AA82: #DIV/0! | AB82: #DIV/0! | AC82: #DIV/0! | AD82: #DIV/0! | AE82: #DIV/0! | AF82: #DIV/0!
M83: #DIV/0! | N83: #DIV/0! | O83: #DIV/0! | P83: #DIV/0! | Q83: #DIV/0! | R83: #DIV/0! | S83: #DIV/0! | T83: #DIV/0! | U83: #DIV/0! | V83: #DIV/0! | W83: #DIV/0! | X83: #DIV/0! | Y83: #DIV/0! | Z83: #DIV/0! | AA83: #DIV/0! | AB83: #DIV/0! | AC83: #DIV/0! | AD83: #DIV/0! | AE83: #DIV/0! | AF83: #DIV/0!
M84: #DIV/0! | N84: #DIV/0! | O84: #DIV/0! | P84: #DIV/0! | Q84: #DIV/0! | R84: #DIV/0! | S84: #DIV/0! | T84: #DIV/0! | U84: #DIV/0! | V84: #DIV/0! | W84: #DIV/0! | X84: #DIV/0! | Y84: #DIV/0! | Z84: #DIV/0! | AA84: #DIV/0! | AB84: #DIV/0! | AC84: #DIV/0! | AD84: #DIV/0! | AE84: #DIV/0! | AF84: #DIV/0!
M85: #DIV/0! | N85: #DIV/0! | O85: #DIV/0! | P85: #DIV/0! | Q85: #DIV/0! | R85: #DIV/0! | S85: #DIV/0! | T85: #DIV/0! | U85: #DIV/0! | V85: #DIV/0! | W85: #DIV/0! | X85: #DIV/0! | Y85: #DIV/0! | Z85: #DIV/0! | AA85: #DIV/0! | AB85: #DIV/0! | AC85: #DIV/0! | AD85: #DIV/0! | AE85: #DIV/0! | AF85: #DIV/0!
M86: #DIV/0! | N86: #DIV/0! | O86: #DIV/0! | P86: #DIV/0! | Q86: #DIV/0! | R86: #DIV/0! | S86: #DIV/0! | T86: #DIV/0! | U86: #DIV/0! | V86: #DIV/0! | W86: #DIV/0! | X86: #DIV/0! | Y86: #DIV/0! | Z86: #DIV/0! | AA86: #DIV/0! | AB86: #DIV/0! | AC86: #DIV/0! | AD86: #DIV/0! | AE86: #DIV/0! | AF86: #DIV/0!
M87: #DIV/0! | N87: #DIV/0! | O87: #DIV/0! | P87: #DIV/0! | Q87: #DIV/0! | R87: #DIV/0! | S87: #DIV/0! | T87: #DIV/0! | U87: #DIV/0! | V87: #DIV/0! | W87: #DIV/0! | X87: #DIV/0! | Y87: #DIV/0! | Z87: #DIV/0! | AA87: #DIV/0! | AB87: #DIV/0! | AC87: #DIV/0! | AD87: #DIV/0! | AE87: #DIV/0! | AF87: #DIV/0!
I88: i | M88: #DIV/0! | N88: #DIV/0! | O88: #DIV/0! | P88: #DIV/0! | Q88: #DIV/0! | R88: #DIV/0! | S88: #DIV/0! | T88: #DIV/0! | U88: #DIV/0! | V88: #DIV/0! | W88: #DIV/0! | X88: #DIV/0! | Y88: #DIV/0! | Z88: #DIV/0! | AA88: #DIV/0! | AB88: #DIV/0! | AC88: #DIV/0! | AD88: #DIV/0! | AE88: #DIV/0! | AF88: #DIV/0!
M89: #DIV/0! | N89: #DIV/0! | O89: #DIV/0! | P89: #DIV/0! | Q89: #DIV/0! | R89: #DIV/0! | S89: #DIV/0! | T89: #DIV/0! | U89: #DIV/0! | V89: #DIV/0! | W89: #DIV/0! | X89: #DIV/0! | Y89: #DIV/0! | Z89: #DIV/0! | AA89: #DIV/0! | AB89: #DIV/0! | AC89: #DIV/0! | AD89: #DIV/0! | AE89: #DIV/0! | AF89: #DIV/0!
I90: i | M90: #DIV/0! | N90: #DIV/0! | O90: #DIV/0! | P90: #DIV/0! | Q90: #DIV/0! | R90: #DIV/0! | S90: #DIV/0! | T90: #DIV/0! | U90: #DIV/0! | V90: #DIV/0! | W90: #DIV/0! | X90: #DIV/0! | Y90: #DIV/0! | Z90: #DIV/0! | AA90: #DIV/0! | AB90: #DIV/0! | AC90: #DIV/0! | AD90: #DIV/0! | AE90: #DIV/0! | AF90: #DIV/0!
M91: #DIV/0! | N91: #DIV/0! | O91: #DIV/0! | P91: #DIV/0! | Q91: #DIV/0! | R91: #DIV/0! | S91: #DIV/0! | T91: #DIV/0! | U91: #DIV/0! | V91: #DIV/0! | W91: #DIV/0! | X91: #DIV/0! | Y91: #DIV/0! | Z91: #DIV/0! | AA91: #DIV/0! | AB91: #DIV/0! | AC91: #DIV/0! | AD91: #DIV/0! | AE91: #DIV/0! | AF91: #DIV/0!
M92: #DIV/0! | N92: #DIV/0! | O92: #DIV/0! | P92: #DIV/0! | Q92: #DIV/0! | R92: #DIV/0! | S92: #DIV/0! | T92: #DIV/0! | U92: #DIV/0! | V92: #DIV/0! | W92: #DIV/0! | X92: #DIV/0! | Y92: #DIV/0! | Z92: #DIV/0! | AA92: #DIV/0! | AB92: #DIV/0! | AC92: #DIV/0! | AD92: #DIV/0! | AE92: #DIV/0! | AF92: #DIV/0!
M93: #DIV/0! | N93: #DIV/0! | O93: #DIV/0! | P93: #DIV/0! | Q93: #DIV/0! | R93: #DIV/0! | S93: #DIV/0! | T93: #DIV/0! | U93: #DIV/0! | V93: #DIV/0! | W93: #DIV/0! | X93: #DIV/0! | Y93: #DIV/0! | Z93: #DIV/0! | AA93: #DIV/0! | AB93: #DIV/0! | AC93: #DIV/0! | AD93: #DIV/0! | AE93: #DIV/0! | AF93: #DIV/0!
M94: #DIV/0! | N94: #DIV/0! | O94: #DIV/0! | P94: #DIV/0! | Q94: #DIV/0! | R94: #DIV/0! | S94: #DIV/0! | T94: #DIV/0! | U94: #DIV/0! | V94: #DIV/0! | W94: #DIV/0! | X94: #DIV/0! | Y94: #DIV/0! | Z94: #DIV/0! | AA94: #DIV/0! | AB94: #DIV/0! | AC94: #DIV/0! | AD94: #DIV/0! | AE94: #DIV/0! | AF94: #DIV/0!
M95: #DIV/0! | N95: #DIV/0! | O95: #DIV/0! | P95: #DIV/0! | Q95: #DIV/0! | R95: #DIV/0! | S95: #DIV/0! | T95: #DIV/0! | U95: #DIV/0! | V95: #DIV/0! | W95: #DIV/0! | X95: #DIV/0! | Y95: #DIV/0! | Z95: #DIV/0! | AA95: #DIV/0! | AB95: #DIV/0! | AC95: #DIV/0! | AD95: #DIV/0! | AE95: #DIV/0! | AF95: #DIV/0!
L99: K-1 | M99: {=MINVERSE(M76:AF95)} -> #DIV/0! | N99: #DIV/0! | O99: #DIV/0! | P99: #DIV/0! | Q99: #DIV/0! | R99: #DIV/0! | S99: #DIV/0! | T99: #DIV/0! | U99: #DIV/0! | V99: #DIV/0! | W99: #DIV/0! | X99: #DIV/0! | Y99: #DIV/0! | Z99: #DIV/0! | AA99: #DIV/0! | AB99: #DIV/0! | AC99: #DIV/0! | AD99: #DIV/0! | AE99: #DIV/0! | AF99: #DIV/0!
M100: #DIV/0! | N100: #DIV/0! | O100: #DIV/0! | P100: #DIV/0! | Q100: #DIV/0! | R100: #DIV/0! | S100: #DIV/0! | T100: #DIV/0! | U100: #DIV/0! | V100: #DIV/0! | W100: #DIV/0! | X100: #DIV/0! | Y100: #DIV/0! | Z100: #DIV/0! | AA100: #DIV/0! | AB100: #DIV/0! | AC100: #DIV/0! | AD100: #DIV/0! | AE100: #DIV/0! | AF100: #DIV/0!
M101: #DIV/0! | N101: #DIV/0! | O101: #DIV/0! | P101: #DIV/0! | Q101: #DIV/0! | R101: #DIV/0! | S101: #DIV/0! | T101: #DIV/0! | U101: #DIV/0! | V101: #DIV/0! | W101: #DIV/0! | X101: #DIV/0! | Y101: #DIV/0! | Z101: #DIV/0! | AA101: #DIV/0! | AB101: #DIV/0! | AC101: #DIV/0! | AD101: #DIV/0! | AE101: #DIV/0! | AF101: #DIV/0!
M102: #DIV/0! | N102: #DIV/0! | O102: #DIV/0! | P102: #DIV/0! | Q102: #DIV/0! | R102: #DIV/0! | S102: #DIV/0! | T102: #DIV/0! | U102: #DIV/0! | V102: #DIV/0! | W102: #DIV/0! | X102: #DIV/0! | Y102: #DIV/0! | Z102: #DIV/0! | AA102: #DIV/0! | AB102: #DIV/0! | AC102: #DIV/0! | AD102: #DIV/0! | AE102: #DIV/0! | AF102: #DIV/0!
M103: #DIV/0! | N103: #DIV/0! | O103: #DIV/0! | P103: #DIV/0! | Q103: #DIV/0! | R103: #DIV/0! | S103: #DIV/0! | T103: #DIV/0! | U103: #DIV/0! | V103: #DIV/0! | W103: #DIV/0! | X103: #DIV/0! | Y103: #DIV/0! | Z103: #DIV/0! | AA103: #DIV/0! | AB103: #DIV/0! | AC103: #DIV/0! | AD103: #DIV/0! | AE103: #DIV/0! | AF103: #DIV/0!
M104: #DIV/0! | N104: #DIV/0! | O104: #DIV/0! | P104: #DIV/0! | Q104: #DIV/0! | R104: #DIV/0! | S104: #DIV/0! | T104: #DIV/0! | U104: #DIV/0! | V104: #DIV/0! | W104: #DIV/0! | X104: #DIV/0! | Y104: #DIV/0! | Z104: #DIV/0! | AA104: #DIV/0! | AB104: #DIV/0! | AC104: #DIV/0! | AD104: #DIV/0! | AE104: #DIV/0! | AF104: #DIV/0!
M105: #DIV/0! | N105: #DIV/0! | O105: #DIV/0! | P105: #DIV/0! | Q105: #DIV/0! | R105: #DIV/0! | S105: #DIV/0! | T105: #DIV/0! | U105: #DIV/0! | V105: #DIV/0! | W105: #DIV/0! | X105: #DIV/0! | Y105: #DIV/0! | Z105: #DIV/0! | AA105: #DIV/0! | AB105: #DIV/0! | AC105: #DIV/0! | AD105: #DIV/0! | AE105: #DIV/0! | AF105: #DIV/0!
M106: #DIV/0! | N106: #DIV/0! | O106: #DIV/0! | P106: #DIV/0! | Q106: #DIV/0! | R106: #DIV/0! | S106: #DIV/0! | T106: #DIV/0! | U106: #DIV/0! | V106: #DIV/0! | W106: #DIV/0! | X106: #DIV/0! | Y106: #DIV/0! | Z106: #DIV/0! | AA106: #DIV/0! | AB106: #DIV/0! | AC106: #DIV/0! | AD106: #DIV/0! | AE106: #DIV/0! | AF106: #DIV/0!
M107: #DIV/0! | N107: #DIV/0! | O107: #DIV/0! | P107: #DIV/0! | Q107: #DIV/0! | R107: #DIV/0! | S107: #DIV/0! | T107: #DIV/0! | U107: #DIV/0! | V107: #DIV/0! | W107: #DIV/0! | X107: #DIV/0! | Y107: #DIV/0! | Z107: #DIV/0! | AA107: #DIV/0! | AB107: #DIV/0! | AC107: #DIV/0! | AD107: #DIV/0! | AE107: #DIV/0! | AF107: #DIV/0!
M108: #DIV/0! | N108: #DIV/0! | O108: #DIV/0! | P108: #DIV/0! | Q108: #DIV/0! | R108: #DIV/0! | S108: #DIV/0! | T108: #DIV/0! | U108: #DIV/0! | V108: #DIV/0! | W108: #DIV/0! | X108: #DIV/0! | Y108: #DIV/0! | Z108: #DIV/0! | AA108: #DIV/0! | AB108: #DIV/0! | AC108: #DIV/0! | AD108: #DIV/0! | AE108: #DIV/0! | AF108: #DIV/0!
M109: #DIV/0! | N109: #DIV/0! | O109: #DIV/0! | P109: #DIV/0! | Q109: #DIV/0! | R109: #DIV/0! | S109: #DIV/0! | T109: #DIV/0! | U109: #DIV/0! | V109: #DIV/0! | W109: #DIV/0! | X109: #DIV/0! | Y109: #DIV/0! | Z109: #DIV/0! | AA109: #DIV/0! | AB109: #DIV/0! | AC109: #DIV/0! | AD109: #DIV/0! | AE109: #DIV/0! | AF109: #DIV/0!
M110: #DIV/0! | N110: #DIV/0! | O110: #DIV/0! | P110: #DIV/0! | Q110: #DIV/0! | R110: #DIV/0! | S110: #DIV/0! | T110: #DIV/0! | U110: #DIV/0! | V110: #DIV/0! | W110: #DIV/0! | X110: #DIV/0! | Y110: #DIV/0! | Z110: #DIV/0! | AA110: #DIV/0! | AB110: #DIV/0! | AC110: #DIV/0! | AD110: #DIV/0! | AE110: #DIV/0! | AF110: #DIV/0!
M111: #DIV/0! | N111: #DIV/0! | O111: #DIV/0! | P111: #DIV/0! | Q111: #DIV/0! | R111: #DIV/0! | S111: #DIV/0! | T111: #DIV/0! | U111: #DIV/0! | V111: #DIV/0! | W111: #DIV/0! | X111: #DIV/0! | Y111: #DIV/0! | Z111: #DIV/0! | AA111: #DIV/0! | AB111: #DIV/0! | AC111: #DIV/0! | AD111: #DIV/0! | AE111: #DIV/0! | AF111: #DIV/0!
... M118: #DIV/0! | N118: #DIV/0! | O118: #DIV/0! | P118: #DIV/0! | Q118: #DIV/0! | R118: #DIV/0! | S118: #DIV/0! | T118: #DIV/0! | U118: #DIV/0! | V118: #DIV/0! | W118: #DIV/0! | X118: #DIV/0! | Y118: #DIV/0! | Z118: #DIV/0! | AA118: #DIV/0! | AB118: #DIV/0! | AC118: #DIV/0! | AD118: #DIV/0! | AE118: #DIV/0! | AF118: #DIV/0!
L121: S=(k*b)*K-1 | M121: {=MMULT(MMULT(M53:AF72,M30:AF49),M99:AF118)} -> #DIV/0! | N121: #DIV/0! | O121: #DIV/0! | P121: #DIV/0! | Q121: #DIV/0! | R121: #DIV/0! | S121: #DIV/0! | T121: #DIV/0! | U121: #DIV/0! | V121: #DIV/0! | W121: #DIV/0! | X121: #DIV/0! | Y121: #DIV/0! | Z121: #DIV/0! | AA121: #DIV/0! | AB121: #DIV/0! | AC121: #DIV/0! | AD121: #DIV/0! | AE121: #DIV/0! | AF121: #DIV/0!
M122: #DIV/0! | N122: #DIV/0! | O122: #DIV/0! | P122: #DIV/0! | Q122: #DIV/0! | R122: #DIV/0! | S122: #DIV/0! | T122: #DIV/0! | U122: #DIV/0! | V122: #DIV/0! | W122: #DIV/0! | X122: #DIV/0! | Y122: #DIV/0! | Z122: #DIV/0! | AA122: #DIV/0! | AB122: #DIV/0! | AC122: #DIV/0! | AD122: #DIV/0! | AE122: #DIV/0! | AF122: #DIV/0!
M123: #DIV/0! | N123: #DIV/0! | O123: #DIV/0! | P123: #DIV/0! | Q123: #DIV/0! | R123: #DIV/0! | S123: #DIV/0! | T123: #DIV/0! | U123: #DIV/0! | V123: #DIV/0! | W123: #DIV/0! | X123: #DIV/0! | Y123: #DIV/0! | Z123: #DIV/0! | AA123: #DIV/0! | AB123: #DIV/0! | AC123: #DIV/0! | AD123: #DIV/0! | AE123: #DIV/0! | AF123: #DIV/0!
...

Sheet TABLA PERFILES
A1: PERFILES NORMALES "I"
A3: PN | B3: b | C3: e | D3: t | E3: A | F3: Peso | G3: Sx | H3: Ix | I3: ix | J3: Sy | K3: Iy | L3: iy | M3: Ix | N3: Sx
B4: mm | C4: mm | D4: mm | E4: cm2 | F4: Kg/m | G4: cm3 | H4: cm4 | I4: cm | J4: cm3 | K4: cm4 | L4: cm
A5: 80 | B5: 42 | C5: 3.9 | D5: 5.9 | E5: 7.6 | F5: 6 | G5: 19.5 | H5: 78 | I5: 3.2 | J5: 3 | K5: 6 | L5: 0.91 | M5: =IF('FLECHAS Y MOMENTOS'!$C$10='TABLA PERFILES'!A5,'TABLA PERFILES'!H5,0) -> 0 | N5: =IF(M5=0,0,G5) -> 0
A6: 100 | B6: 50 | C6: 4.5 | D6: 6.8 | E6: 10.6 | F6: 8.3 | G6: 34.2 | H6: 171 | I6: 4 | J6: 4.9 | K6: 12 | L6: 1.07 | M6: =IF('FLECHAS Y MOMENTOS'!$C$10='TABLA PERFILES'!A6,'TABLA PERFILES'!H6,0) -> 0 | N6: =IF(M6=0,0,G6) -> 0
A7: 120 | B7: 58 | C7: 5.1 | D7: 7.7 | E7: 14.2 | F7: 11.2 | G7: 54.7 | H7: 328 | I7: 4.8 | J7: 7.4 | K7: 22 | L7: 1.23 | M7: =IF('FLECHAS Y MOMENTOS'!$C$10='TABLA PERFILES'!A7,'TABLA PERFILES'!H7,0) -> 0 | N7: =IF(M7=0,0,G7) -> 0
A8: 140 | B8: 66 | C8: 5.7 | D8: 8.6 | E8: 18.3 | F8: 14.4 | G8: 81.9 | H8: 573 | I8: 5.6 | J8: 10.7 | K8: 35 | L8: 1.4 | M8: =IF('FLECHAS Y MOMENTOS'!$C$10='TABLA PERFILES'!A8,'TABLA PERFILES'!H8,0) -> 0 | N8: =IF(M8=0,0,G8) -> 0
A9: 160 | B9: 74 | C9: 6.3 | D9: 9.5 | E9: 22.8 | F9: 17.9 | G9: 117 | H9: 935 | I9: 6.4 | J9: 14.8 | K9: 55 | L9: 1.55 | M9: =IF('FLECHAS Y MOMENTOS'!$C$10='TABLA PERFILES'!A9,'TABLA PERFILES'!H9,0) -> 0 | N9: =IF(M9=0,0,G9) -> 0
A10: 180 | B10: 82 | C10: 6.9 | D10: 10.4 | E10: 27.9 | F10: 21.9 | G10: 161 | H10: 1450 | I10: 7.2 | J10: 20 | K10: 81 | L10: 1.71 | M10: =IF('FLECHAS Y MOMENTOS'!$C$10='TABLA PERFILES'!A10,'TABLA PERFILES'!H10,0) -> 0 | N10: =IF(M10=0,0,G10) -> 0
A11: 200 | B11: 90 | C11: 7.5 | D11: 11.3 | E11: 33.5 | F11: 26.3 | G11: 214 | H11: 2140 | I11: 8 | J11: 26 | K11: 117 | L11: 1.87 | M11: =IF('FLECHAS Y MOMENTOS'!$C$10='TABLA PERFILES'!A11,'TABLA PERFILES'!H11,0) -> 0 | N11: =IF(M11=0,0,G11) -> 0
A12: 220 | B12: 98 | C12: 8.1 | D12: 12.2 | E12: 39.6 | F12: 31.1 | G12: 278 | H12: 3060 | I12: 8.8 | J12: 33 | K12: 162 | L12: 2.02 | M12: =IF('FLECHAS Y MOMENTOS'!$C$10='TABLA PERFILES'!A12,'TABLA PERFILES'!H12,0) -> 0 | N12: =IF(M12=0,0,G12) -> 0
A13: 240 | B13: 106 | C13: 8.7 | D13: 13.1 | E13: 46.1 | F13: 36.2 | G13: 354 | H13: 4250 | I13: 9.6 | J13: 42 | K13: 221 | L13: 2.2 | M13: =IF('FLECHAS Y MOMENTOS'!$C$10='TABLA PERFILES'!A13,'TABLA PERFILES'!H13,0) -> 0 | N13: =IF(M13=0,0,G13) -> 0
A14: 260 | B14: 113 | C14: 9.4 | D14: 14.1 | E14: 53.4 | F14: 41.9 | G14: 442 | H14: 5740 | I14: 10.4 | J14: 51 | K14: 288 | L14: 2.32 | M14: =IF('FLECHAS Y MOMENTOS'!$C$10='TABLA PERFILES'!A14,'TABLA PERFILES'!H14,0) -> 0 | N14: =IF(M14=0,0,G14) -> 0
A15: 280 | B15: 119 | C15: 10.1 | D15: 15.2 | E15: 61.1 | F15: 47 | G15: 542 | H15: 7590 | I15: 11.1 | J15: 61 | K15: 364 | L15: 2.45 | M15: =IF('FLECHAS Y MOMENTOS'!$C$10='TABLA PERFILES'!A15,'TABLA PERFILES'!H15,0) -> 0 | N15: =IF(M15=0,0,G15) -> 0
A16: 300 | B16: 125 | C16: 10.8 | D16: 16.2 | E16: 69.1 | F16: 54.2 | G16: 653 | H16: 9800 | I16: 11.9 | J16: 72 | K16: 451 | L16: 2.56 | M16: =IF('FLECHAS Y MOMENTOS'!$C$10='TABLA PERFILES'!A16,'TABLA PERFILES'!H16,0) -> 0 | N16: =IF(M16=0,0,G16) -> 0
... A21: 400 | B21: 155 | C21: 14.4 | D21: 21.6 | E21: 118 | F21: 92.6 | G21: 1460 | H21: 29210 | I21: 15.7 | J21: 150 | K21: 1160 | L21: 3.43 | M21: =IF('FLECHAS Y MOMENTOS'!$C$10='TABLA PERFILES'!A21,'TABLA PERFILES'!H21,0) -> 0 | N21: =IF(M21=0,0,G21) -> 0
M22: =MAX(M5:M21) -> 0 | N22: =MAX(N5:N21) -> 0
L23: I PN | M23: =M22 -> 0
L24: I S NN | M24: ='FLECHAS Y MOMENTOS'!F9 -> 0
L25: I RECT | M25: ='FLECHAS Y MOMENTOS'!B11 -> 0
L26: I DEF | M26: =IF(OR((AND('FLECHAS Y MOMENTOS'!C10<>0,'FLECHAS Y MOMENTOS'!F9<>0)),(AND('FLECHAS Y MOMENTOS'!B11<>0,'FLECHAS Y MOMENTOS'!F9<>0)),(AND('FLECHAS Y MOMENTOS'!B11<>0,'FLECHAS Y MOMENTOS'!C10<>0))),"ERROR",MAX(M23:M25)) -> 0
A28: PERFILES NORMALES "U"
A30: PN | B30: b | C30: e | D30: t | E30: A | F30: Peso | G30: Sx | H30: Ix | I30: ix | J30: Sy | K30: Iy | L30: iy | M30: Ix | N30: Sx
B31: mm | C31: mm | D31: mm | E31: cm2 | F31: Kg/m | G31: cm3 | H31: cm4 | I31: cm | J31: cm3 | K31: cm4 | L31: cm
A32: 50 | B32: 38 | C32: 5 | D32: 7 | E32: 7.12 | F32: 5.6 | G32: 10.6 | H32: 26.4 | I32: 1.92 | J32: 9.12 | K32: 1.13 | L32: 1.37 | M32: =IF('FLECHAS Y MOMENTOS'!$D$10='TABLA PERFILES'!A32,'TABLA PERFILES'!H32,0) -> 0 | N32: =IF(M32=0,0,G32) -> 0
A33: 60 | B33: 12 | C33: 5.5 | D33: 7.5 | E33: 9.03 | F33: 7.1 | G33: 17.7 | H33: 57.5 | I33: 2.52 | J33: 14.1 | K33: 1.25 | L33: 1.42 | M33: =IF('FLECHAS Y MOMENTOS'!$D$10='TABLA PERFILES'!A33,'TABLA PERFILES'!H33,0) -> 0 | N33: =IF(M33=0,0,G33) -> 0
A34: 80 | B34: 15 | C34: 6 | D34: 8 | E34: 11 | F34: 8.61 | G34: 26.5 | H34: 106 | I34: 3.1 | J34: 19.4 | K34: 1.33 | L34: 1.45 | M34: =IF('FLECHAS Y MOMENTOS'!$D$10='TABLA PERFILES'!A34,'TABLA PERFILES'!H34,0) -> 0 | N34: =IF(M34=0,0,G34) -> 0
A35: 100 | B35: 50 | C35: 6 | D35: 8.5 | E35: 13.5 | F35: 10.6 | G35: 41.2 | H35: 206 | I35: 3.91 | J35: 29.3 | K35: 1.47 | L35: 1.55 | M35: =IF('FLECHAS Y MOMENTOS'!$D$10='TABLA PERFILES'!A35,'TABLA PERFILES'!H35,0) -> 0 | N35: =IF(M35=0,0,G35) -> 0
A36: 120 | B36: 55 | C36: 7 | D36: 9 | E36: 17 | F36: 13.4 | G36: 60.7 | H36: 364 | I36: 4.62 | J36: 43.2 | K36: 1.59 | L36: 1.6 | M36: =IF('FLECHAS Y MOMENTOS'!$D$10='TABLA PERFILES'!A36,'TABLA PERFILES'!H36,0) -> 0 | N36: =IF(M36=0,0,G36) -> 0
A37: 140 | B37: 60 | C37: 7 | D37: 10 | E37: 20.1 | F37: 16 | G37: 86.4 | H37: 605 | I37: 5.45 | J37: 62.7 | K37: 1.75 | L37: 1.75 | M37: =IF('FLECHAS Y MOMENTOS'!$D$10='TABLA PERFILES'!A37,'TABLA PERFILES'!H37,0) -> 0 | N37: =IF(M37=0,0,G37) -> 0
A38: 160 | B38: 65 | C38: 7.5 | D38: 10.5 | E38: 21 | F38: 18.8 | G38: 116 | H38: 925 | I38: 6.21 | J38: 85.3 | K38: 1.89 | L38: 1.84 | M38: =IF('FLECHAS Y MOMENTOS'!$D$10='TABLA PERFILES'!A38,'TABLA PERFILES'!H38,0) -> 0 | N38: =IF(M38=0,0,G38) -> 0
A39: 180 | B39: 70 | C39: 8 | D39: 11 | E39: 28 | F39: 22 | G39: 150 | H39: 1350 | I39: 6.95 | J39: 114 | K39: 2.02 | L39: 1.92 | M39: =IF('FLECHAS Y MOMENTOS'!$D$10='TABLA PERFILES'!A39,'TABLA PERFILES'!H39,0) -> 0 | N39: =IF(M39=0,0,G39) -> 0
A40: 200 | B40: 75 | C40: 8.5 | D40: 11.5 | E40: 32.2 | F40: 25.3 | G40: 191 | H40: 1910 | I40: 7.7 | J40: 148 | K40: 2.14 | L40: 2.01 | M40: =IF('FLECHAS Y MOMENTOS'!$D$10='TABLA PERFILES'!A40,'TABLA PERFILES'!H40,0) -> 0 | N40: =IF(M40=0,0,G40) -> 0
A41: 220 | B41: 80 | C41: 9 | D41: 12.5 | E41: 371 | F41: 29.4 | G41: 2415 | H41: 2690 | I41: 8.48 | J41: 197 | K41: 2.3 | L41: 2.14 | M41: =IF('FLECHAS Y MOMENTOS'!$D$10='TABLA PERFILES'!A41,'TABLA PERFILES'!H41,0) -> 0 | N41: =IF(M41=0,0,G41) -> 0
A42: 210 | B42: 85 | C42: 9.5 | D42: 13 | E42: 12.3 | F42: 33.2 | G42: 300 | H42: 3600 | I42: 9.22 | J42: 248 | K42: 2.42 | L42: 2.23 | M42: =IF('FLECHAS Y MOMENTOS'!$D$10='TABLA PERFILES'!A42,'TABLA PERFILES'!H42,0) -> 0 | N42: =IF(M42=0,0,G42) -> 0
A43: 260 | B43: 90 | C43: 10 | D43: 11 | E43: 18.3 | F43: 37.9 | G43: 371 | H43: 4820 | I43: 9.99 | J43: 317 | K43: 2.56 | L43: 2.36 | M43: =IF('FLECHAS Y MOMENTOS'!$D$10='TABLA PERFILES'!A43,'TABLA PERFILES'!H43,0) -> 0 | N43: =IF(M43=0,0,G43) -> 0
... A45: 300 | B45: 100 | C45: 10 | D45: 16 | E45: 58.8 | F45: 46.2 | G45: 535 | H45: 8030 | I45: 11.7 | J45: 495 | K45: 2.9 | L45: 2.7 | M45: =IF('FLECHAS Y MOMENTOS'!$D$10='TABLA PERFILES'!A45,'TABLA PERFILES'!H45,0) -> 0 | N45: =IF(M45=0,0,G45) -> 0
M46: =MAX(M32:M45) -> 0 | N46: =MAX(N32:N45) -> 0
L47: I PN | M47: =M46 -> 0
L48: I S NN | M48: ='FLECHAS Y MOMENTOS'!#REF! -> #REF!
L49: I RECT | M49: ='FLECHAS Y MOMENTOS'!#REF! -> #REF!
L50: I DEF | M50: =IF(OR((AND('FLECHAS Y MOMENTOS'!#REF!<>0,'FLECHAS Y MOMENTOS'!#REF!<>0)),(AND('FLECHAS Y MOMENTOS'!#REF!<>0,'FLECHAS Y MOMENTOS'!#REF!<>0)),(AND('FLECHAS Y MOMENTOS'!#REF!<>0,'FLECHAS Y MOMENTOS'!#REF!<>0))),"ERROR",MAX(M47:M49)) -> #REF!
